BEGIN:VCALENDAR
VERSION:2.0
PRODID:-//Photographische Gesellschaft Lübeck e.V. von 1907 - ECPv6.15.20//NONSGML v1.0//EN
CALSCALE:GREGORIAN
METHOD:PUBLISH
X-WR-CALNAME:Photographische Gesellschaft Lübeck e.V. von 1907
X-ORIGINAL-URL:https://pgl-luebeck.com
X-WR-CALDESC:Veranstaltungen für Photographische Gesellschaft Lübeck e.V. von 1907
REFRESH-INTERVAL;VALUE=DURATION:PT1H
X-Robots-Tag:noindex
X-PUBLISHED-TTL:PT1H
BEGIN:VTIMEZONE
TZID:Europe/Berlin
BEGIN:DAYLIGHT
TZOFFSETFROM:+0100
TZOFFSETTO:+0200
TZNAME:CEST
DTSTART:20250330T010000
END:DAYLIGHT
BEGIN:STANDARD
TZOFFSETFROM:+0200
TZOFFSETTO:+0100
TZNAME:CET
DTSTART:20251026T010000
END:STANDARD
BEGIN:DAYLIGHT
TZOFFSETFROM:+0100
TZOFFSETTO:+0200
TZNAME:CEST
DTSTART:20260329T010000
END:DAYLIGHT
BEGIN:STANDARD
TZOFFSETFROM:+0200
TZOFFSETTO:+0100
TZNAME:CET
DTSTART:20261025T010000
END:STANDARD
BEGIN:DAYLIGHT
TZOFFSETFROM:+0100
TZOFFSETTO:+0200
TZNAME:CEST
DTSTART:20270328T010000
END:DAYLIGHT
BEGIN:STANDARD
TZOFFSETFROM:+0200
TZOFFSETTO:+0100
TZNAME:CET
DTSTART:20271031T010000
END:STANDARD
END:VTIMEZONE
BEGIN:VEVENT
DTSTART;VALUE=DATE:20260426
DTEND;VALUE=DATE:20260427
DTSTAMP:20260421T104705
CREATED:20260226T082913Z
LAST-MODIFIED:20260226T082953Z
UID:3438-1777161600-1777247999@pgl-luebeck.com
SUMMARY:Hamburg Marathon
DESCRIPTION:
URL:https://pgl-luebeck.com/event/hamburg-marathon/
CATEGORIES:Veranstaltungstipps
END:VEVENT
BEGIN:VEVENT
DTSTART;VALUE=DATE:20260427
DTEND;VALUE=DATE:20260428
DTSTAMP:20260421T104705
CREATED:20260225T180915Z
LAST-MODIFIED:20260227T084040Z
UID:3421-1777248000-1777334399@pgl-luebeck.com
SUMMARY:Interner Clubwettbewerb 26 - Abgabe QII
DESCRIPTION:Thema Farbe: \nFeuer \nThema SW:\nLicht und Schatten
URL:https://pgl-luebeck.com/event/interner-clubwettbewerb-26-abgabe-qii/
CATEGORIES:Photographische Gesellschaft Lübeck
END:VEVENT
BEGIN:VEVENT
DTSTART;TZID=Europe/Berlin:20260427T190000
DTEND;TZID=Europe/Berlin:20260427T210000
DTSTAMP:20260421T104705
CREATED:20260225T180016Z
LAST-MODIFIED:20260225T180153Z
UID:3410-1777316400-1777323600@pgl-luebeck.com
SUMMARY:Clubabend
DESCRIPTION:Vortrag von Peter Karg „Panoramafotografie“
URL:https://pgl-luebeck.com/event/clubabend-3/
LOCATION:Clubraum\, Kronsforder Allee 25\, Lübeck\, 23560
CATEGORIES:Photographische Gesellschaft Lübeck
END:VEVENT
BEGIN:VEVENT
DTSTART;VALUE=DATE:20260504
DTEND;VALUE=DATE:20260505
DTSTAMP:20260421T104705
CREATED:20260310T154030Z
LAST-MODIFIED:20260318T091436Z
UID:3744-1777852800-1777939199@pgl-luebeck.com
SUMMARY:DVF Nordmark Landesfotoschau Einsendezeitraum beginnt
DESCRIPTION:Sparte 1: Einzelbilder Freies Thema Farbe\nSparte 2: Einzelbilder Freies Thema Schwarz/Weiß (keine Tonung)\nSparte 3: Einzelbilder Natur\, Tiere\, Landschaften * – Farbe und/oder Schwarz/Weiß
URL:https://pgl-luebeck.com/event/dvf-nordmark-landesfotoschau-einsendezeitraum/
CATEGORIES:DVF
END:VEVENT
BEGIN:VEVENT
DTSTART;TZID=Europe/Berlin:20260511T190000
DTEND;TZID=Europe/Berlin:20260511T210000
DTSTAMP:20260421T104705
CREATED:20260225T180334Z
LAST-MODIFIED:20260227T083948Z
UID:3415-1778526000-1778533200@pgl-luebeck.com
SUMMARY:Clubabend
DESCRIPTION:
URL:https://pgl-luebeck.com/event/clubabend-4/
LOCATION:Clubraum\, Kronsforder Allee 25\, Lübeck\, 23560
CATEGORIES:Photographische Gesellschaft Lübeck
END:VEVENT
BEGIN:VEVENT
DTSTART;VALUE=DATE:20260525
DTEND;VALUE=DATE:20260526
DTSTAMP:20260421T104705
CREATED:20260225T180546Z
LAST-MODIFIED:20260225T180621Z
UID:3418-1779667200-1779753599@pgl-luebeck.com
SUMMARY:Pfingstmontag
DESCRIPTION:
URL:https://pgl-luebeck.com/event/pfingstmontag/
END:VEVENT
BEGIN:VEVENT
DTSTART;TZID=Europe/Berlin:20260608T190000
DTEND;TZID=Europe/Berlin:20260608T210000
DTSTAMP:20260421T104705
CREATED:20260226T082147Z
LAST-MODIFIED:20260227T083956Z
UID:3428-1780945200-1780952400@pgl-luebeck.com
SUMMARY:Clubabend
DESCRIPTION:
URL:https://pgl-luebeck.com/event/clubabend-5/
LOCATION:Clubraum\, Kronsforder Allee 25\, Lübeck\, 23560
CATEGORIES:Photographische Gesellschaft Lübeck
END:VEVENT
BEGIN:VEVENT
DTSTART;VALUE=DATE:20260614
DTEND;VALUE=DATE:20260615
DTSTAMP:20260421T104705
CREATED:20260226T083057Z
LAST-MODIFIED:20260226T083101Z
UID:3440-1781395200-1781481599@pgl-luebeck.com
SUMMARY:7 Türme Triathlon 2026
DESCRIPTION:
URL:https://pgl-luebeck.com/event/7-tuerme-triathlon-2026/
CATEGORIES:Veranstaltungstipps
END:VEVENT
BEGIN:VEVENT
DTSTART;TZID=Europe/Berlin:20260622T190000
DTEND;TZID=Europe/Berlin:20260622T210000
DTSTAMP:20260421T104705
CREATED:20260226T082254Z
LAST-MODIFIED:20260227T084002Z
UID:3430-1782154800-1782162000@pgl-luebeck.com
SUMMARY:Clubabend
DESCRIPTION:Ergebnis des Internen Wettbewerbes QII
URL:https://pgl-luebeck.com/event/clubabend-6/
LOCATION:Clubraum\, Kronsforder Allee 25\, Lübeck\, 23560
CATEGORIES:Photographische Gesellschaft Lübeck
END:VEVENT
BEGIN:VEVENT
DTSTART;VALUE=DATE:20260626
DTEND;VALUE=DATE:20260629
DTSTAMP:20260421T104705
CREATED:20260330T143140Z
LAST-MODIFIED:20260330T143140Z
UID:3918-1782432000-1782691199@pgl-luebeck.com
SUMMARY:Jazz-Baltica in Timmendorf
DESCRIPTION:
URL:https://pgl-luebeck.com/event/jazz-baltica-in-timmendorf/
CATEGORIES:Veranstaltungstipps
END:VEVENT
BEGIN:VEVENT
DTSTART;TZID=Europe/Berlin:20260713T190000
DTEND;TZID=Europe/Berlin:20260713T210000
DTSTAMP:20260421T104705
CREATED:20260227T084636Z
LAST-MODIFIED:20260227T084636Z
UID:3458-1783969200-1783976400@pgl-luebeck.com
SUMMARY:Clubabend
DESCRIPTION:
URL:https://pgl-luebeck.com/event/clubabend-9/
LOCATION:Clubraum\, Kronsforder Allee 25\, Lübeck\, 23560
END:VEVENT
BEGIN:VEVENT
DTSTART;VALUE=DATE:20260727
DTEND;VALUE=DATE:20260728
DTSTAMP:20260421T104705
CREATED:20260226T082600Z
LAST-MODIFIED:20260227T084014Z
UID:3434-1785110400-1785196799@pgl-luebeck.com
SUMMARY:Interner Clubwettbewerb 26 - Abgabe QIII
DESCRIPTION:Thema Farbe: Wasser\, \nThema SW: Technik
URL:https://pgl-luebeck.com/event/interner-clubwettbewerb-26-abgabe-qiii/
CATEGORIES:Photographische Gesellschaft Lübeck
END:VEVENT
BEGIN:VEVENT
DTSTART;TZID=Europe/Berlin:20260727T190000
DTEND;TZID=Europe/Berlin:20260727T210000
DTSTAMP:20260421T104705
CREATED:20260227T084716Z
LAST-MODIFIED:20260227T084919Z
UID:3460-1785178800-1785186000@pgl-luebeck.com
SUMMARY:Clubabend
DESCRIPTION:
URL:https://pgl-luebeck.com/event/clubabend-10/
LOCATION:Clubraum\, Kronsforder Allee 25\, Lübeck\, 23560
CATEGORIES:Photographische Gesellschaft Lübeck
END:VEVENT
BEGIN:VEVENT
DTSTART;TZID=Europe/Berlin:20260810T190000
DTEND;TZID=Europe/Berlin:20260810T210000
DTSTAMP:20260421T104705
CREATED:20260227T084802Z
LAST-MODIFIED:20260227T084802Z
UID:3462-1786388400-1786395600@pgl-luebeck.com
SUMMARY:Clubabend
DESCRIPTION:
URL:https://pgl-luebeck.com/event/clubabend-11/
LOCATION:Clubraum\, Kronsforder Allee 25\, Lübeck\, 23560
CATEGORIES:Photographische Gesellschaft Lübeck
END:VEVENT
BEGIN:VEVENT
DTSTART;TZID=Europe/Berlin:20260824T190000
DTEND;TZID=Europe/Berlin:20260824T210000
DTSTAMP:20260421T104705
CREATED:20260227T084846Z
LAST-MODIFIED:20260227T084846Z
UID:3464-1787598000-1787605200@pgl-luebeck.com
SUMMARY:Clubabend
DESCRIPTION:
URL:https://pgl-luebeck.com/event/clubabend-12/
LOCATION:Clubraum\, Kronsforder Allee 25\, Lübeck\, 23560
CATEGORIES:Photographische Gesellschaft Lübeck
END:VEVENT
BEGIN:VEVENT
DTSTART;TZID=Europe/Berlin:20260914T190000
DTEND;TZID=Europe/Berlin:20260914T210000
DTSTAMP:20260421T104705
CREATED:20260227T085018Z
LAST-MODIFIED:20260227T085018Z
UID:3466-1789412400-1789419600@pgl-luebeck.com
SUMMARY:Clubabend
DESCRIPTION:
URL:https://pgl-luebeck.com/event/clubabend-13/
LOCATION:Clubraum\, Kronsforder Allee 25\, Lübeck\, 23560
CATEGORIES:Photographische Gesellschaft Lübeck
END:VEVENT
BEGIN:VEVENT
DTSTART;TZID=Europe/Berlin:20260928T190000
DTEND;TZID=Europe/Berlin:20260928T210000
DTSTAMP:20260421T104705
CREATED:20260227T084336Z
LAST-MODIFIED:20260227T084523Z
UID:3452-1790622000-1790629200@pgl-luebeck.com
SUMMARY:Clubabend
DESCRIPTION:Ergebnis des Internen Wettbewerbes QIII
URL:https://pgl-luebeck.com/event/clubabend-7/
LOCATION:Clubraum\, Kronsforder Allee 25\, Lübeck\, 23560
CATEGORIES:Photographische Gesellschaft Lübeck
END:VEVENT
BEGIN:VEVENT
DTSTART;VALUE=DATE:20261012
DTEND;VALUE=DATE:20261013
DTSTAMP:20260421T104705
CREATED:20260226T082738Z
LAST-MODIFIED:20260227T084021Z
UID:3436-1791763200-1791849599@pgl-luebeck.com
SUMMARY:Interner Clubwettbewerb 26 - Abgabe QIV
DESCRIPTION:Thema Farbe: Speed\, \nThema SW: (Irgendetwas mit Menschen) – Street
URL:https://pgl-luebeck.com/event/interner-clubwettbewerb-26-abgabe-qiv/
CATEGORIES:Photographische Gesellschaft Lübeck
END:VEVENT
BEGIN:VEVENT
DTSTART;TZID=Europe/Berlin:20261012T190000
DTEND;TZID=Europe/Berlin:20261012T210000
DTSTAMP:20260421T104705
CREATED:20260227T085058Z
LAST-MODIFIED:20260227T085058Z
UID:3468-1791831600-1791838800@pgl-luebeck.com
SUMMARY:Clubabend
DESCRIPTION:
URL:https://pgl-luebeck.com/event/clubabend-14/
LOCATION:Clubraum\, Kronsforder Allee 25\, Lübeck\, 23560
CATEGORIES:Photographische Gesellschaft Lübeck
END:VEVENT
BEGIN:VEVENT
DTSTART;TZID=Europe/Berlin:20261017T150000
DTEND;TZID=Europe/Berlin:20261017T200000
DTSTAMP:20260421T104705
CREATED:20260410T162841Z
LAST-MODIFIED:20260410T162841Z
UID:4098-1792249200-1792267200@pgl-luebeck.com
SUMMARY:Fotoring 80 - Siegerehrung & Ausstellung
DESCRIPTION:
URL:https://pgl-luebeck.com/event/fotoring-80-siegerehrung-ausstellung/
LOCATION:Handwerkskammer in Lübeck\, Breite Straße 10\, Lübeck\, 23552\, Germany
END:VEVENT
BEGIN:VEVENT
DTSTART;TZID=Europe/Berlin:20261026T190000
DTEND;TZID=Europe/Berlin:20261026T210000
DTSTAMP:20260421T104705
CREATED:20260227T085200Z
LAST-MODIFIED:20260227T085200Z
UID:3470-1793041200-1793048400@pgl-luebeck.com
SUMMARY:Clubabend
DESCRIPTION:
URL:https://pgl-luebeck.com/event/clubabend-15/
LOCATION:Clubraum\, Kronsforder Allee 25\, Lübeck\, 23560
CATEGORIES:Photographische Gesellschaft Lübeck
END:VEVENT
BEGIN:VEVENT
DTSTART;VALUE=DATE:20261107
DTEND;VALUE=DATE:20261108
DTSTAMP:20260421T104705
CREATED:20260410T163051Z
LAST-MODIFIED:20260410T163051Z
UID:4100-1794009600-1794095999@pgl-luebeck.com
SUMMARY:Pixelrunde - Siegerehrung & Ausstellung
DESCRIPTION:Datum: TBC \nUhrzeit: TBD \nOrt: Kiel
URL:https://pgl-luebeck.com/event/pixelrunde-siegerehrung-ausstellung/
END:VEVENT
BEGIN:VEVENT
DTSTART;TZID=Europe/Berlin:20261109T190000
DTEND;TZID=Europe/Berlin:20261109T210000
DTSTAMP:20260421T104705
CREATED:20260227T085241Z
LAST-MODIFIED:20260227T085241Z
UID:3472-1794250800-1794258000@pgl-luebeck.com
SUMMARY:Clubabend
DESCRIPTION:
URL:https://pgl-luebeck.com/event/clubabend-16/
LOCATION:Clubraum\, Kronsforder Allee 25\, Lübeck\, 23560
CATEGORIES:Photographische Gesellschaft Lübeck
END:VEVENT
BEGIN:VEVENT
DTSTART;TZID=Europe/Berlin:20261123T190000
DTEND;TZID=Europe/Berlin:20261123T210000
DTSTAMP:20260421T104705
CREATED:20260227T084431Z
LAST-MODIFIED:20260227T084431Z
UID:3455-1795460400-1795467600@pgl-luebeck.com
SUMMARY:Clubabend
DESCRIPTION:Ergebnis des Internen Wettbewerbes QIV
URL:https://pgl-luebeck.com/event/clubabend-8/
LOCATION:Clubraum\, Kronsforder Allee 25\, Lübeck\, 23560
CATEGORIES:Photographische Gesellschaft Lübeck
END:VEVENT
BEGIN:VEVENT
DTSTART;TZID=Europe/Berlin:20261214T190000
DTEND;TZID=Europe/Berlin:20261214T210000
DTSTAMP:20260421T104705
CREATED:20260227T085331Z
LAST-MODIFIED:20260227T085331Z
UID:3474-1797274800-1797282000@pgl-luebeck.com
SUMMARY:Clubabend
DESCRIPTION:
URL:https://pgl-luebeck.com/event/clubabend-17/
LOCATION:Clubraum\, Kronsforder Allee 25\, Lübeck\, 23560
CATEGORIES:Photographische Gesellschaft Lübeck
END:VEVENT
BEGIN:VEVENT
DTSTART;TZID=Europe/Berlin:20261216T180000
DTEND;TZID=Europe/Berlin:20261216T233000
DTSTAMP:20260421T104705
CREATED:20260225T180126Z
LAST-MODIFIED:20260225T180138Z
UID:3412-1797444000-1797463800@pgl-luebeck.com
SUMMARY:Weihnachtsfeier
DESCRIPTION:Der Veranstaltungsort wird noch bekanntgegeben.
URL:https://pgl-luebeck.com/event/weihnachtsfeier/
CATEGORIES:Photographische Gesellschaft Lübeck
END:VEVENT
END:VCALENDAR