BEGIN:VCALENDAR
VERSION:2.0
PRODID:-//Photographische Gesellschaft Lübeck e.V. von 1907 - ECPv6.15.20//NONSGML v1.0//EN
CALSCALE:GREGORIAN
METHOD:PUBLISH
X-WR-CALNAME:Photographische Gesellschaft Lübeck e.V. von 1907
X-ORIGINAL-URL:https://pgl-luebeck.com
X-WR-CALDESC:Veranstaltungen für Photographische Gesellschaft Lübeck e.V. von 1907
REFRESH-INTERVAL;VALUE=DURATION:PT1H
X-Robots-Tag:noindex
X-PUBLISHED-TTL:PT1H
BEGIN:VTIMEZONE
TZID:Europe/Berlin
BEGIN:DAYLIGHT
TZOFFSETFROM:+0100
TZOFFSETTO:+0200
TZNAME:CEST
DTSTART:20250330T010000
END:DAYLIGHT
BEGIN:STANDARD
TZOFFSETFROM:+0200
TZOFFSETTO:+0100
TZNAME:CET
DTSTART:20251026T010000
END:STANDARD
BEGIN:DAYLIGHT
TZOFFSETFROM:+0100
TZOFFSETTO:+0200
TZNAME:CEST
DTSTART:20260329T010000
END:DAYLIGHT
BEGIN:STANDARD
TZOFFSETFROM:+0200
TZOFFSETTO:+0100
TZNAME:CET
DTSTART:20261025T010000
END:STANDARD
BEGIN:DAYLIGHT
TZOFFSETFROM:+0100
TZOFFSETTO:+0200
TZNAME:CEST
DTSTART:20270328T010000
END:DAYLIGHT
BEGIN:STANDARD
TZOFFSETFROM:+0200
TZOFFSETTO:+0100
TZNAME:CET
DTSTART:20271031T010000
END:STANDARD
END:VTIMEZONE
BEGIN:VEVENT
DTSTART;TZID=Europe/Berlin:20260303T193000
DTEND;TZID=Europe/Berlin:20260303T210000
DTSTAMP:20260419T151534
CREATED:20260225T172658Z
LAST-MODIFIED:20260225T180222Z
UID:3389-1772566200-1772571600@pgl-luebeck.com
SUMMARY:Dienstagsvortrag in der Gemeinnützigen
DESCRIPTION:Der Fotograf Jochen Peters präsentiert Aufnahmen aus dem Bryce Canyon\, Grand Teton und Yellowstone im großen Saal der Gemeinnützigen\, Königstr. 5. Der Eintritt ist frei.
URL:https://pgl-luebeck.com/event/dienstagsvortraege-in-der-gemeinnuetzigen/
LOCATION:Die Gemeinnützige\,\, Königstr. 5\, Lübeck\, 23552
CATEGORIES:Photographische Gesellschaft Lübeck
END:VEVENT
BEGIN:VEVENT
DTSTART;TZID=Europe/Berlin:20260309T190000
DTEND;TZID=Europe/Berlin:20260309T210000
DTSTAMP:20260419T151534
CREATED:20260225T171415Z
LAST-MODIFIED:20260225T180215Z
UID:3385-1773082800-1773090000@pgl-luebeck.com
SUMMARY:Clubabend
DESCRIPTION:Ergebnis des Quartalswettbewerbes I
URL:https://pgl-luebeck.com/event/clubabend/
LOCATION:Clubraum\, Kronsforder Allee 25\, Lübeck\, 23560
CATEGORIES:Photographische Gesellschaft Lübeck
END:VEVENT
BEGIN:VEVENT
DTSTART;VALUE=DATE:20260315
DTEND;VALUE=DATE:20260316
DTSTAMP:20260419T151534
CREATED:20260315T093916Z
LAST-MODIFIED:20260318T091540Z
UID:3800-1773532800-1773619199@pgl-luebeck.com
SUMMARY:Deutsche Fotomeisterschaft 2026
DESCRIPTION:Einsendezeitraum: 15. März bis 06. April 2026
URL:https://pgl-luebeck.com/event/deutsche-fotomeisterschaft-2026/
CATEGORIES:DVF
END:VEVENT
BEGIN:VEVENT
DTSTART;TZID=Europe/Berlin:20260323T190000
DTEND;TZID=Europe/Berlin:20260323T210000
DTSTAMP:20260419T151534
CREATED:20260225T173932Z
LAST-MODIFIED:20260225T180207Z
UID:3395-1774292400-1774299600@pgl-luebeck.com
SUMMARY:Mitgliederversammlung
DESCRIPTION:Dieser Clubabend ist nur für Mitglieder der Photographischen Gesellschaft Lübeck.
URL:https://pgl-luebeck.com/event/mitgliederversammlung/
LOCATION:Mehrgenerationenhaus Eichholz\,\, Im Brandenbaumer Feld 27\, Lübeck\, 23564
CATEGORIES:Photographische Gesellschaft Lübeck
END:VEVENT
END:VCALENDAR