BEGIN:VCALENDAR
VERSION:2.0
PRODID:-//Photographische Gesellschaft Lübeck e.V. von 1907 - ECPv6.15.20//NONSGML v1.0//EN
CALSCALE:GREGORIAN
METHOD:PUBLISH
X-ORIGINAL-URL:https://pgl-luebeck.com
X-WR-CALDESC:Veranstaltungen für Photographische Gesellschaft Lübeck e.V. von 1907
REFRESH-INTERVAL;VALUE=DURATION:PT1H
X-Robots-Tag:noindex
X-PUBLISHED-TTL:PT1H
BEGIN:VTIMEZONE
TZID:Europe/Berlin
BEGIN:DAYLIGHT
TZOFFSETFROM:+0100
TZOFFSETTO:+0200
TZNAME:CEST
DTSTART:20250330T010000
END:DAYLIGHT
BEGIN:STANDARD
TZOFFSETFROM:+0200
TZOFFSETTO:+0100
TZNAME:CET
DTSTART:20251026T010000
END:STANDARD
BEGIN:DAYLIGHT
TZOFFSETFROM:+0100
TZOFFSETTO:+0200
TZNAME:CEST
DTSTART:20260329T010000
END:DAYLIGHT
BEGIN:STANDARD
TZOFFSETFROM:+0200
TZOFFSETTO:+0100
TZNAME:CET
DTSTART:20261025T010000
END:STANDARD
BEGIN:DAYLIGHT
TZOFFSETFROM:+0100
TZOFFSETTO:+0200
TZNAME:CEST
DTSTART:20270328T010000
END:DAYLIGHT
BEGIN:STANDARD
TZOFFSETFROM:+0200
TZOFFSETTO:+0100
TZNAME:CET
DTSTART:20271031T010000
END:STANDARD
END:VTIMEZONE
BEGIN:VEVENT
DTSTART;VALUE=DATE:20261107
DTEND;VALUE=DATE:20261108
DTSTAMP:20260421T211826
CREATED:20260410T163051Z
LAST-MODIFIED:20260410T163051Z
UID:4100-1794009600-1794095999@pgl-luebeck.com
SUMMARY:Pixelrunde - Siegerehrung & Ausstellung
DESCRIPTION:Datum: TBC \nUhrzeit: TBD \nOrt: Kiel
URL:https://pgl-luebeck.com/event/pixelrunde-siegerehrung-ausstellung/
END:VEVENT
BEGIN:VEVENT
DTSTART;TZID=Europe/Berlin:20261109T190000
DTEND;TZID=Europe/Berlin:20261109T210000
DTSTAMP:20260421T211826
CREATED:20260227T085241Z
LAST-MODIFIED:20260227T085241Z
UID:3472-1794250800-1794258000@pgl-luebeck.com
SUMMARY:Clubabend
DESCRIPTION:
URL:https://pgl-luebeck.com/event/clubabend-16/
LOCATION:Clubraum\, Kronsforder Allee 25\, Lübeck\, 23560
CATEGORIES:Photographische Gesellschaft Lübeck
END:VEVENT
BEGIN:VEVENT
DTSTART;TZID=Europe/Berlin:20261123T190000
DTEND;TZID=Europe/Berlin:20261123T210000
DTSTAMP:20260421T211826
CREATED:20260227T084431Z
LAST-MODIFIED:20260227T084431Z
UID:3455-1795460400-1795467600@pgl-luebeck.com
SUMMARY:Clubabend
DESCRIPTION:Ergebnis des Internen Wettbewerbes QIV
URL:https://pgl-luebeck.com/event/clubabend-8/
LOCATION:Clubraum\, Kronsforder Allee 25\, Lübeck\, 23560
CATEGORIES:Photographische Gesellschaft Lübeck
END:VEVENT
END:VCALENDAR