BEGIN:VCALENDAR
VERSION:2.0
PRODID:-//Photographische Gesellschaft Lübeck e.V. von 1907 - ECPv6.15.20//NONSGML v1.0//EN
CALSCALE:GREGORIAN
METHOD:PUBLISH
X-ORIGINAL-URL:https://pgl-luebeck.com
X-WR-CALDESC:Veranstaltungen für Photographische Gesellschaft Lübeck e.V. von 1907
REFRESH-INTERVAL;VALUE=DURATION:PT1H
X-Robots-Tag:noindex
X-PUBLISHED-TTL:PT1H
BEGIN:VTIMEZONE
TZID:Europe/Berlin
BEGIN:DAYLIGHT
TZOFFSETFROM:+0100
TZOFFSETTO:+0200
TZNAME:CEST
DTSTART:20250330T010000
END:DAYLIGHT
BEGIN:STANDARD
TZOFFSETFROM:+0200
TZOFFSETTO:+0100
TZNAME:CET
DTSTART:20251026T010000
END:STANDARD
BEGIN:DAYLIGHT
TZOFFSETFROM:+0100
TZOFFSETTO:+0200
TZNAME:CEST
DTSTART:20260329T010000
END:DAYLIGHT
BEGIN:STANDARD
TZOFFSETFROM:+0200
TZOFFSETTO:+0100
TZNAME:CET
DTSTART:20261025T010000
END:STANDARD
BEGIN:DAYLIGHT
TZOFFSETFROM:+0100
TZOFFSETTO:+0200
TZNAME:CEST
DTSTART:20270328T010000
END:DAYLIGHT
BEGIN:STANDARD
TZOFFSETFROM:+0200
TZOFFSETTO:+0100
TZNAME:CET
DTSTART:20271031T010000
END:STANDARD
END:VTIMEZONE
BEGIN:VEVENT
DTSTART;TZID=Europe/Berlin:20261214T190000
DTEND;TZID=Europe/Berlin:20261214T210000
DTSTAMP:20260421T230059
CREATED:20260227T085331Z
LAST-MODIFIED:20260227T085331Z
UID:3474-1797274800-1797282000@pgl-luebeck.com
SUMMARY:Clubabend
DESCRIPTION:
URL:https://pgl-luebeck.com/event/clubabend-17/
LOCATION:Clubraum\, Kronsforder Allee 25\, Lübeck\, 23560
CATEGORIES:Photographische Gesellschaft Lübeck
END:VEVENT
BEGIN:VEVENT
DTSTART;TZID=Europe/Berlin:20261216T180000
DTEND;TZID=Europe/Berlin:20261216T233000
DTSTAMP:20260421T230059
CREATED:20260225T180126Z
LAST-MODIFIED:20260225T180138Z
UID:3412-1797444000-1797463800@pgl-luebeck.com
SUMMARY:Weihnachtsfeier
DESCRIPTION:Der Veranstaltungsort wird noch bekanntgegeben.
URL:https://pgl-luebeck.com/event/weihnachtsfeier/
CATEGORIES:Photographische Gesellschaft Lübeck
END:VEVENT
END:VCALENDAR